BEGIN:VCALENDAR
VERSION:2.0
PRODID:-//PAWA - ECPv6.15.17.1//NONSGML v1.0//EN
CALSCALE:GREGORIAN
METHOD:PUBLISH
X-ORIGINAL-URL:https://pawa-london.org
X-WR-CALDESC:Events for PAWA
REFRESH-INTERVAL;VALUE=DURATION:PT1H
X-Robots-Tag:noindex
X-PUBLISHED-TTL:PT1H
BEGIN:VTIMEZONE
TZID:UTC
BEGIN:STANDARD
TZOFFSETFROM:+0000
TZOFFSETTO:+0000
TZNAME:UTC
DTSTART:20250101T000000
END:STANDARD
END:VTIMEZONE
BEGIN:VEVENT
DTSTART;TZID=UTC:20260310T173000
DTEND;TZID=UTC:20260310T223000
DTSTAMP:20260420T132412
CREATED:20260306T050745Z
LAST-MODIFIED:20260311T160137Z
UID:12999-1773163800-1773181800@pawa-london.org
SUMMARY:PAWA's Annual Meeting
DESCRIPTION:PAWA warmly invites you to join us for an update on PAWA’s work supporting girl’s education across Asia. \nPlease join PAWA Trustees\, Volunteers\, and Supporters to learn how PAWA is fulfilling its mission to educate teenage girls across Asia\, including our planned activities for 2026 and developments in the charitable education sector. This is your chance to ask questions and check in with the programmes funded through your generosity. We look forward to catching up with you for drinks and canapé at the close of the meeting. \nDoors open at 5.30pm. Meeting begins at 6pm\, followed by refreshments and canapés. \nWe are being generously hosted by WTW at their offices in the City of London\,\n51 Lime Street\, EC3M 7DQ \nIf you haven’t already done so please RSVP before 6th March by signing up with the Eventbrite link below \nhttps://www.eventbrite.co.uk/e/pawa-annual-meeting-2026-tickets-1977916280840?aff=oddtdtcreator\n  \nThe PAWA team hopes to see you there!
URL:https://pawa-london.org/event/pawas-annual-meeting/
LOCATION:51 Lime Street\, EC3M 7DQ\, United Kingdom
CATEGORIES:Past Events
ATTACH;FMTTYPE=image/jpeg:https://pawa-london.org/wp-content/uploads/2026/03/image03.jpeg
END:VEVENT
END:VCALENDAR