BEGIN:VCALENDAR
VERSION:2.0
PRODID:-//PAWA - ECPv6.15.17.1//NONSGML v1.0//EN
CALSCALE:GREGORIAN
METHOD:PUBLISH
X-ORIGINAL-URL:https://pawa-london.org
X-WR-CALDESC:Events for PAWA
REFRESH-INTERVAL;VALUE=DURATION:PT1H
X-Robots-Tag:noindex
X-PUBLISHED-TTL:PT1H
BEGIN:VTIMEZONE
TZID:UTC
BEGIN:STANDARD
TZOFFSETFROM:+0000
TZOFFSETTO:+0000
TZNAME:UTC
DTSTART:20240101T000000
END:STANDARD
END:VTIMEZONE
BEGIN:VEVENT
DTSTART;VALUE=DATE:20250924
DTEND;VALUE=DATE:20250925
DTSTAMP:20260420T195609
CREATED:20250903T074705Z
LAST-MODIFIED:20251008T061322Z
UID:11424-1758672000-1758758399@pawa-london.org
SUMMARY:MCM PAWA SOCIALS 24th September
DESCRIPTION:Our inaugural event provided a warm and relaxed setting for PAWA volunteers to connect\, network\, and support one another. We were delighted to gather at MCM’s London Boutique\, kindly hosted by PAWA Founder and MCM CEO\, Sungjoo Kim\, who generously opened her doors and extended such warm hospitality. \nThe evening was made extra special by our guest speaker\, Miss Mei Sim Lai\, OBE DL. She inspired us with her personal story of moving from Kuala Lumpur to London\, the challenges she faced along the way\, and her incredible journey to becoming a highly respected chartered accountant and international business leader. Her passion for diversity\, inclusion\, and women’s empowerment deeply resonated with our volunteers and set a wonderful energy and momentum for future PAWA gatherings. \n \n	\n\n		MCM PAWA SOCIALS 24th September\n\n		\n				\n						\n		\n\n		\n		\n\n			\n				\n					\n				\n			\n\n			\n				\n					\n				\n			\n\n			\n				Image				1				of				7
URL:https://pawa-london.org/event/mcm-pawa-socials-24th-september/
CATEGORIES:Past Events
END:VEVENT
END:VCALENDAR