BEGIN:VCALENDAR
VERSION:2.0
PRODID:-//PAWA - ECPv6.15.17.1//NONSGML v1.0//EN
CALSCALE:GREGORIAN
METHOD:PUBLISH
X-ORIGINAL-URL:https://pawa-london.org
X-WR-CALDESC:Events for PAWA
REFRESH-INTERVAL;VALUE=DURATION:PT1H
X-Robots-Tag:noindex
X-PUBLISHED-TTL:PT1H
BEGIN:VTIMEZONE
TZID:UTC
BEGIN:STANDARD
TZOFFSETFROM:+0000
TZOFFSETTO:+0000
TZNAME:UTC
DTSTART:20240101T000000
END:STANDARD
END:VTIMEZONE
BEGIN:VEVENT
DTSTART;VALUE=DATE:20250517
DTEND;VALUE=DATE:20250518
DTSTAMP:20260421T025746
CREATED:20250406T072155Z
LAST-MODIFIED:20250526T041610Z
UID:9346-1747440000-1747526399@pawa-london.org
SUMMARY:A PAWA Patrons and Benefactors Event: Exhibition Gallery Talk\, Workshop and Afternoon Tea at the Royal Thai Embassy (by Invitation Only)
DESCRIPTION:  \n \n 
URL:https://pawa-london.org/event/a-pawa-patrons-and-benefactors-event-exhibition-gallery-talk-workshop-and-afternoon-tea-at-the-royal-thai-embassy-by-invitation-only/
LOCATION:Hampstead Station\, Hampstead\, North London\, United Kingdom
CATEGORIES:Past Events
END:VEVENT
END:VCALENDAR