BEGIN:VCALENDAR
VERSION:2.0
PRODID:-//PAWA - ECPv6.15.17.1//NONSGML v1.0//EN
CALSCALE:GREGORIAN
METHOD:PUBLISH
X-ORIGINAL-URL:https://pawa-london.org
X-WR-CALDESC:Events for PAWA
REFRESH-INTERVAL;VALUE=DURATION:PT1H
X-Robots-Tag:noindex
X-PUBLISHED-TTL:PT1H
BEGIN:VTIMEZONE
TZID:UTC
BEGIN:STANDARD
TZOFFSETFROM:+0000
TZOFFSETTO:+0000
TZNAME:UTC
DTSTART:20240101T000000
END:STANDARD
END:VTIMEZONE
BEGIN:VEVENT
DTSTART;TZID=UTC:20250622T100000
DTEND;TZID=UTC:20250622T100000
DTSTAMP:20260420T232346
CREATED:20250406T074007Z
LAST-MODIFIED:20250731T115603Z
UID:9355-1750586400-1750586400@pawa-london.org
SUMMARY:PAWA Walk@15
DESCRIPTION:A huge thanks to everyone who took part and supported through donations to make the day an amazing success. It was a wonderful sight to see the wave of orange hats take on the 5k and 10k walk/run on a bright Sunday morning through Battersea Park.\n \nThe walk raised £15\,422 plus £2940 Gift Aid. \n \n5-year-old-twins\, Leo and Arthur\, were our youngest participants and fundraisers completing the 5k-route\, raising an amazing £285.69 and £58.92 Gift Aid. The top fundraiser was Marquis Wong who raised a whopping £2\,595.00 plus £60.00 Gift Aid\, which will help PAWA support 53 girls for a year. The Duggan family won the fastest prize; all four members of the family – including Ava who won the honour of the fastest single female runner on the day – ran in record time. Thank you all and everyone who participated for your support!\n \n	\n\n		PAWA Walk@15\n\n		\n				\n						\n		\n\n		\n		\n\n			\n				\n					\n				\n			\n\n			\n				\n					\n				\n			\n\n			\n				Image				1				of				5
URL:https://pawa-london.org/event/pawa-walk15/
LOCATION:Hampstead Station\, Hampstead\, North London\, United Kingdom
CATEGORIES:Past Events
END:VEVENT
END:VCALENDAR