BEGIN:VCALENDAR
VERSION:2.0
PRODID:-//PAWA - ECPv6.15.17.1//NONSGML v1.0//EN
CALSCALE:GREGORIAN
METHOD:PUBLISH
X-ORIGINAL-URL:https://pawa-london.org
X-WR-CALDESC:Events for PAWA
REFRESH-INTERVAL;VALUE=DURATION:PT1H
X-Robots-Tag:noindex
X-PUBLISHED-TTL:PT1H
BEGIN:VTIMEZONE
TZID:UTC
BEGIN:STANDARD
TZOFFSETFROM:+0000
TZOFFSETTO:+0000
TZNAME:UTC
DTSTART:20240101T000000
END:STANDARD
END:VTIMEZONE
BEGIN:VEVENT
DTSTART;VALUE=DATE:20250317
DTEND;VALUE=DATE:20250318
DTSTAMP:20260421T043126
CREATED:20250219T025006Z
LAST-MODIFIED:20250415T050519Z
UID:9006-1742169600-1742255999@pawa-london.org
SUMMARY:PAWA Annual Meeting 2025
DESCRIPTION:PAWA celebrated 15 years of commitment and dedication to the education of teenage girls in Asia\, generously hosted by Euronext\, London.\n \n	\n\n		PAWA ANNUAL MEETING & DRINK 2025\n\n		\n				\n						\n		\n\n		\n		\n\n			\n				\n					\n				\n			\n\n			\n				\n					\n				\n			\n\n			\n				Image				1				of				7			\n\n		\n\n		\n			  \n		\n\n			\n	\n\n  \n 
URL:https://pawa-london.org/event/pawa-annual-meeting/
LOCATION:Euronext\, 11th Floor\, Cargo Building\, 25th North Colonnade\, London E14 5HS\, Euronext\, 11th Floor Cargo Building\, 25th North Colonnade\, London\, E14 5HS\, United Kingdom
CATEGORIES:Past Events
END:VEVENT
END:VCALENDAR